Workbook

Sheet RECAP
B2: RECAPITULATIF COMMANDE GROUPEE
B4: NOEL 2026
B6: Commande à transmettre avant le Vendredi 06 Novembre, date butoir
B9: Merci de compléter vos coordonnées et de transmettre au CSE :
B10: - par mail CSE-Centrale-Achats@ten.com, ce fichier correctement rempli : aucune commande ne sera prise en compte sans l'envoi de ce fichier
B12: ET
B13: - par courrier ou directement au CSE, une copie du récapitulatif de la commande accompagnée d'un SEUL chèque au nom du CSE Technip
B17: NOM : | G17: PRENOM :
B18: Tél. Bureau : | G18: Tél. Mobile :
B19: @mail TEN : | G19: N° Bureau :
B20: Banque : | G20: N° Chèque :
C22: CHAMPAGNE | I22: =Champagne!G21 -> 0
C24: CHOCOLATS | I24: =Chocolats!G52 -> 0
C26: SAUMON / CAVIAR | I26: =Saumon!G31 -> 0
C28: FOIE GRAS | I28: ='Foie Gras'!G13 -> 0
C30: NOUGATS & Cie | I30: ='Nougats_&_Cie'!G21 -> 0
C32: COLIS | I32: =Colis!G21 -> 0
C34: BELLE ILOISE | I34: ='Belle Iloise'!G21 -> 0
C36: OLIVIERS & CO | I36: ='Oliviers & Co'!G21 -> 0
C38: COGNAC JOEL BILLY | I38: ='Cognac Joel Billy'!G16 -> 0
C40: VINS | I40: =Vins!G74 -> 0
C42: HUITRES | I42: =Huitres!G17 -> 0
E44: TOTAL COMMANDE | I44: =SUM(I22:J43) -> 0

Sheet Champagne
B1: CHAMPAGNE
E3: Prix unitaire | F3: Quantité | G3: TOTAL
B4: GUEUSQUIN
C5: Carton 6 bouteilles | D5: 1er cru Millesime 2020 | E5: 111 | G5: =E5*F5 -> 0
B7: JL. PETIT
C8: Carton 6 bouteilles | D8: Brut Réserve | E8: 100.2 | G8: =E8*F8 -> 0
D9: Brut Rosé | E9: 103.8 | G9: =E9*F9 -> 0
D10: Demi-bouteilles (Brut Réserve ) | E10: 61.2 | G10: =E10*F10 -> 0
C11: la bouteille | D11: Magnum (1,5 l) | E11: 35.5 | G11: =E11*F11 -> 0
B13: LOUIS DEHU
C14: Carton 6 bouteilles | D14: Blanc de blanc - Sélection | E14: 122.4 | G14: =E14*F14 -> 0
B17: TAITTINGER
C18: Carton 6 bouteilles | D18: Brut Réserve Prestige Blanc | E18: 218.75 | G18: =E18*F18 -> 0
E21: TOTAL CHAMPAGNE | G21: =SUM(G5:G19) -> 0

Sheet Chocolats
B1: CHOCOLATS
E3: Prix unitaire | F3: Quantité | G3: TOTAL
B4: Gilles CRESNO
C5: Chocolats Assortiments | D5: Boite de 5 chocolats 40 g | E5: 4.14 | G5: =E5*F5 -> 0
D6: Boite de 12 chocolats 96 g | E6: 9.2 | G6: =E6*F6 -> 0
D7: Boite de 20 chocolats 160 g | E7: 14.88 | G7: =E7*F7 -> 0
D8: Boite de 40 chocolats 320 g | E8: 25.76 | G8: =E8*F8 -> 0
D9: Boite de 60 chocolats 480 g | E9: 36.8 | G9: =E9*F9 -> 0
D10: Boite de 84 chocolats 675 g | E10: 50.6 | G10: =E10*F10 -> 0
D11: Boite de 126 chocolats 1000 g | E11: 72.68 | G11: =E11*F11 -> 0
C13: Chocolats Noirs | D13: Boite de 5 chocolats 40 g | E13: 4.14 | G13: =E13*F13 -> 0
D14: Boite de 12 chocolats 96 g | E14: 9.2 | G14: =E14*F14 -> 0
D15: Boite de 20 chocolats 160 g | E15: 14.88 | G15: =E15*F15 -> 0
D16: Boite de 40 chocolats 320 g | E16: 25.76 | G16: =E16*F16 -> 0
D17: Boite de 60 chocolats 480 g | E17: 36.8 | G17: =E17*F17 -> 0
D18: Boite de 84 chocolats 675 g | E18: 50.6 | G18: =E18*F18 -> 0
D19: Boite de 126 chocolats 1000 g | E19: 72.68 | G19: =E19*F19 -> 0
C21: Chocolats Lait | D21: Boite de 5 chocolats 40 g | E21: 4.14 | G21: =E21*F21 -> 0
D22: Boite de 12 chocolats 96 g | E22: 9.2 | G22: =E22*F22 -> 0
D23: Boite de 20 chocolats 160 g | E23: 14.88 | G23: =E23*F23 -> 0
D24: Boite de 40 chocolats 320 g | E24: 25.76 | G24: =E24*F24 -> 0
D25: Boite de 60 chocolats 480 g | E25: 36.8 | G25: =E25*F25 -> 0
D26: Boite de 84 chocolats 675 g | E26: 50.6 | G26: =E26*F26 -> 0
D27: Boite de 126 chocolats 1000 g | E27: 72.68 | G27: =E27*F27 -> 0
C29: Chocolats Praliné | D29: Boite de 5 chocolats 40 g | E29: 4.14 | G29: =E29*F29 -> 0
D30: Boite de 12 chocolats 96 g | E30: 9.2 | G30: =E30*F30 -> 0
D31: Boite de 20 chocolats 160 g | E31: 14.88 | G31: =E31*F31 -> 0
D32: Boite de 40 chocolats 320 g | E32: 25.76 | G32: =E32*F32 -> 0
D33: Boite de 60 chocolats 480 g | E33: 36.8 | G33: =E33*F33 -> 0
D34: Boite de 84 chocolats 675 g | E34: 50.6 | G34: =E34*F34 -> 0
D35: Boite de 126 chocolats 1000 g | E35: 72.68 | G35: =E35*F35 -> 0
C37: Autres Produits de Noël | D37: Sachet de truffes natures 130 g | E37: 9.2 | G37: =E37*F37 -> 0
D38: Pâte à tartiner 250 g | E38: 6.44 | G38: =E38*F38 -> 0
D39: Boite de 12 marrons | E39: 24.84 | G39: =E39*F39 -> 0
D40: Sachet 4 marrons | E40: 8.28 | G40: =E40*F40 -> 0
D41: Sachet 6 marrons | E41: 12.42 | G41: =E41*F41 -> 0
D42: Coffret Pralinés de fêtes 320 g | E42: 26.68 | G42: =E42*F42 -> 0
D43: Pavé de Noel 300 g | E43: 18.4 | G43: =E43*F43 -> 0
D44: Coffret "Merci" 160 g 20 chocolats | E44: 15.64 | G44: =E44*F44 -> 0
D45: Coffret "Merci" 320 g 40 chocolats | E45: 26.68 | G45: =E45*F45 -> 0
...

Sheet Saumon
B1: SAUMON
E3: Prix unitaire | F3: Quantité | G3: TOTAL
B4: KAVIARI
C5: Saumon Ecosse | D5: Fumé 6/8 tranches 400 g | E5: 26.84 | G5: =E5*F5 -> 0
D6: Fumé 4 tranches 200 g | E6: 14.26 | G6: =E6*F6 -> 0
C8: Saumon Norvège | D8: Fumé tranché tranché main 1 kg | E8: 40.34 | G8: =E8*F8 -> 0
D9: Fumé 4 tranches 200 g | E9: 13.67 | G9: =E9*F9 -> 0
D10: Cœur de saumon 200 g | E10: 15.78 | G10: =E10*F10 -> 0
D11: Cœur de saumon 450 g | E11: 31.65 | G11: =E11*F11 -> 0
C13: Bio Irlandais | D13: Fumé 4 tranches 200 g | E13: 14.98 | G13: =E13*F13 -> 0
C15: Caviars | D15: Caviar Baeri Royal 30 g | E15: 35.2 | G15: =E15*F15 -> 0
D16: Caviar Français 30 g | E16: 36.72 | G16: =E16*F16 -> 0
D17: Caviar Baeri 30 g | E17: 30.6 | G17: =E17*F17 -> 0
C19: Autres produits de la mer | D19: Tarama à la truffe 90 g | E19: 4.01 | G19: =E19*F19 -> 0
D20: Rillettes de St Jacques 90 g | E20: 4.27 | G20: =E20*F20 -> 0
D21: Velouté de St Jacques 425ml | E21: 5.22 | G21: =E21*F21 -> 0
D22: Velouté d'Oursin 425ml | E22: 5.03 | G22: =E22*F22 -> 0
D23: Bisque de Homard 425ml | E23: 3.95 | G23: =E23*F23 -> 0
D24: Saumon fumé à l'huile 120 g | E24: 2.75 | G24: =E24*F24 -> 0
D25: Rillettes de sardine au piment 90 g | E25: 3.23 | G25: =E25*F25 -> 0
D26: Rillettes de moule de Bouchot 90 g | E26: 2.66 | G26: =E26*F26 -> 0
D27: Rillettes de Bar à la truffe 90 g | E27: 3.61 | G27: =E27*F27 -> 0
D28: Rillettes de langoustines 90 g | E28: 4.27 | G28: =E28*F28 -> 0
D29: Tartare d'algues 90 g | E29: 3.04 | G29: =E29*F29 -> 0
E31: TOTAL SAUMON | G31: =SUM(G5:G29) -> 0

Sheet Nougats_&_Cie
B1: NOUGATS
E3: Prix unitaire | F3: Quantité | G3: TOTAL
B4: LES TROIS ABEILLES
D5: Borne | E5: 14.6 | G5: =E5*F5 -> 0
C6: Personnalisation
D7: Boite Agglo | E7: 9.9 | G7: =E7*F7 -> 0
D9: Corbeille 1 | E9: 28.4 | G9: =E9*F9 -> 0
D11: Corbeille 2 | E11: 43.8 | G11: =E11*F11 -> 0
D13: Corbeille 3 | E13: 44.9 | G13: =E13*F13 -> 0
D15: Sac 1 | E15: 30 | G15: =E15*F15 -> 0
D17: Sac 2 | E17: 43.5 | G17: =E17*F17 -> 0
D19: Sac 3 | E19: 47 | G19: =E19*F19 -> 0
E21: TOTAL NOUGAT | G21: =SUM(G5:G19) -> 0

Sheet Foie Gras
B1: FOIE GRAS
E3: Prix unitaire | F3: Quantité | G3: TOTAL
B4: VALETTE
C5: Canard Mi-cuit | D5: Foie gras entier 180 g | E5: 23.4 | G5: =E5*F5 -> 0
D6: Foie gras entier 300 g | E6: 31.9 | G6: =E6*F6 -> 0
C8: Canard Mi-cuit autres | D8: Entier cuisson douce 200 g | E8: 23.8 | G8: =E8*F8 -> 0
C10: Autres produits | D10: Lobe Foie canard entier mi-cuit 320 g | E10: 32.6 | G10: =E10*F10 -> 0
D11: Le Sarawak 420 g | E11: 42.8 | G11: =E11*F11 -> 0
E13: TOTAL FOIE GRAS | G13: =SUM(G5:G11) -> 0

Sheet Colis
B1: COLIS
E3: Prix unitaire | F3: Quantité | G3: TOTAL
B4: VALETTE
C5: Colis gourmand | D5: L'écrin gourmand | E5: 9.9 | G5: =E5*F5 -> 0
D7: La hotte gourmande | E7: 19 | G7: =E7*F7 -> 0
D9: Saveurs de Noël | E9: 25 | G9: =E9*F9 -> 0
D11: Trésor de fête | E11: 28.5 | G11: =E11*F11 -> 0
D13: Réveillon passion | E13: 31.9 | G13: =E13*F13 -> 0
D15: Délices de Noël | E15: 39.9 | G15: =E15*F15 -> 0
D17: Passionnement réveillon | E17: 41.9 | G17: =E17*F17 -> 0
D19: Evasion des sens | E19: 59 | G19: =E19*F19 -> 0
E21: TOTAL COLIS | G21: =SUM(G5:G19) -> 0

Sheet Belle Iloise
B1: CONSERVERIE LA BELLE ILOISE
E3: Prix unitaire | F3: Quantité | G3: TOTAL
B4: La Belle Iloise
D5: Coffret 10 Tartinables | E5: 23.5 | G5: =E5*F5 -> 0
D7: Assortiment 4 verrines, légumes et poisson | E7: 16.77 | G7: =E7*F7 -> 0
D9: 4 Tartinables à déguster chaud | E9: 17.52 | G9: =E9*F9 -> 0
D11: La moyenne bourriche | E11: 35.64 | G11: =E11*F11 -> 0
D13: Coffret On dirait le Sud | E13: 16.55 | G13: =E13*F13 -> 0
D15: Coffret Port Maria | E15: 43.08 | G15: =E15*F15 -> 0
D17: Coffret les Emiettés | E17: 17.57 | G17: =E17*F17 -> 0
D19: Le torchon de la belle iloise | E19: 5.37 | G19: =E19*F19 -> 0
E21: TOTAL CONSERVERIE | G21: =SUM(G5:G19) -> 0

Sheet Oliviers & Co
B1: OLIVIERS & CO
E3: Prix unitaire | F3: Quantité | G3: TOTAL
B4: Oliviers & Co
D5: Afterwork | E5: 14 | G5: =E5*F5 -> 0
D7: Délices du Sud | E7: 19 | G7: =E7*F7 -> 0
D9: Apéritif entre Amis | E9: 38 | G9: =E9*F9 -> 0
D11: Apéro ensoleillé | E11: 39 | G11: =E11*F11 -> 0
D13: Douceur des mains | E13: 21 | G13: =E13*F13 -> 0
D15: L'irrésistible | E15: 25 | G15: =E15*F15 -> 0
D17: L'écrin des saveurs | E17: 33 | G17: =E17*F17 -> 0
D19: Noël en bouteille | E19: 36 | G19: =E19*F19 -> 0
E21: TOTAL OLIVIERS | G21: =SUM(G5:G19) -> 0

Sheet Cognac Joel Billy
B1: COGNACS JOEL BILLY
E3: Prix unitaire | F3: Quantité | G3: TOTAL
B4: Cognac JOEL BILLY
D5: Cognac VSOP Garden Party | E5: 30 | G5: =E5*F5 -> 0
D7: Cognac XO Napoléon - bouteille 10 ans | E7: 45 | G7: =E7*F7 -> 0
D9: Cognac XO Napoléon - carafe 10 ans | E9: 50 | G9: =E9*F9 -> 0
D11: Cognac XO Suprême | E11: 80 | G11: =E11*F11 -> 0
D13: Cognac XO Nuit des temps hors d'âge | E13: 100 | G13: =E13*F13 -> 0
E16: TOTAL COGNAC | G16: =SUM(G5:G14) -> 0

Sheet Vins
B1: VINS
E3: Prix unitaire | F3: Quantité | G3: TOTAL
B4: DOREAU
C5: Carton 6 bouteilles ROUGE | D5: MONTHELIE 2023 | E5: 96 | G5: =E5*F5 -> 0
D6: MONTHELIE 1er Cru Champs Fulliots 2024 | E6: 162 | G6: =E6*F6 -> 0
D7: POMMARD Les Vignots 2024 | E7: 180 | G7: =E7*F7 -> 0
C8: Carton 6 bouteilles BLANC | D8: BOURGOGNE Aligoté 2025 | E8: 54 | G8: =E8*F8 -> 0
D9: BOURGOGNE COTE D'OR Chardonnay 2024 | E9: 78 | G9: =E9*F9 -> 0
D10: SAINT ROMAIN sous roche 2025 | E10: 132 | G10: =E10*F10 -> 0
D11: MEURSAULT 2025 | E11: 186 | G11: =E11*F11 -> 0
B13: VIGNOBLE TOURENNE
C14: Carton 6 bouteilles | D14: SAINT EMILION - Gros Caillou 2025 | E14: 45.6 | G14: =E14*F14 -> 0
C15: Magnum | D15: SAINT EMILION - Gros Caillou 2025 | E15: 14 | G15: =E15*F15 -> 0
B17: LA MEULIERE
C18: Carton 6 bouteilles | D18: CHABLIS 2023 | E18: 81 | G18: =E18*F18 -> 0
C19: Carton 3 bouteilles | D19: CHABLIS 2023 | E19: 40.5 | G19: =E19*F19 -> 0
C20: Carton 6 bouteilles | D20: CHABLIS 1er cru 2023 | E20: 129 | G20: =E20*F20 -> 0
C21: Carton 3 bouteilles | D21: CHABLIS 1er cru 2023 | E21: 64.5 | G21: =E21*F21 -> 0
B23: BAUMANN & ZIRGEL
C24: Vins d'Alsace (la bouteille de 75cl) | D24: PINOT GRIS Demeter 2025 | E24: 12.5 | G24: =E24*F24 -> 0
D25: GEWURZTRAMINER Demeter 2025 | E25: 12.5 | G25: =E25*F25 -> 0
D26: CREMANT D'ALSACE BRUT - Médaille d'argent | E26: 14 | G26: =E26*F26 -> 0
C28: Lieux-Dits & Vieilles Vignes (la bouteille de 75cl) | D28: RIESLING Streng - Médaille d'argent 2024 | E28: 15.5 | G28: =E28*F28 -> 0
D29: PINOT GRIS Schwenkel - Moelleux - Médaille d'or 2024 | E29: 15.5 | G29: =E29*F29 -> 0
D30: GEWURZTRAMINER Strumpfgasse - Millesime BIO 2022 | E30: 15.5 | G30: =E30*F30 -> 0
C32: Grands Crus (la bouteille de 75cl) | D32: RIESLING Mandelberg - Médaille d'argent 2024 | E32: 22.5 | G32: =E32*F32 -> 0
D33: RIESLING Schoenenbourg - Vieilles vignes 2022 | E33: 26.5 | G33: =E33*F33 -> 0
D34: GEWURZTRAMINER Sporen - Médaille d'or 2021 | E34: 24.5 | G34: =E34*F34 -> 0
C36: Vendanges Tardives (la bouteille) | D36: PINOT GRIS 2016 - Médaille d'or ( 50 cl ) | E36: 29 | G36: =E36*F36 -> 0
D37: GEWURZTRAMINER 2023 ( 50 cl ) | E37: 22.5 | G37: =E37*F37 -> 0
D38: RIESLING 2020 ( 75 cl ) | E38: 33.5 | G38: =E38*F38 -> 0
C40: Colis 3 bouteilles | D40: Riesling Streng 2024 - Pinot Gris 2025 - Gewurztraminer Stumpfgasse 2022 | E40: 43.5 | G40: =E40*F40 -> 0
C42: Colis 6 bouteilles | D42: 1 Sylvaner 2024 Vieilles vignes - 2 Riesling 2024 - 2 Pinot Gris 2026 - 1 Gewurstraminer 2024 | E42: 73.5 | G42: =E42*F42 -> 0
C44: Colis fêtes - 6 bouteilles | D44: Sylvaner 2024 - Riesling 2024 - Pinot gris 2021 - Gewurztraminer 2024 - Pinot Noir 2024 - Gewurztraminer vendanges tardives (50cl) | E44: 91 | G44: =E44*F44 -> 0
C46: Eau de vie 45 °C (la bouteille de 70cl) | D46: Mirabelle Reserve | E46: 30.5 | G46: =E46*F46 -> 0
D47: Kirsch Reserve | E47: 30.5 | G47: =E47*F47 -> 0
D48: Quetsch Réserve | E48: 29.5 | G48: =E48*F48 -> 0
D49: Poire William Reserve | E49: 30.5 | G49: =E49*F49 -> 0
D50: Framboise sauvage | E50: 33.5 | G50: =E50*F50 -> 0
B52: CHÂTEAU PEYRELONGUE
...

Sheet Huitres
B1: HUITRES
E3: Prix unitaire | F3: Quantité | G3: TOTAL
B4: PROXI MAREE
C5: CALIBRE 2 Grosses | D5: BOURRICHE 4 Douzaines | E5: 34.39 | G5: =E5*F5 -> 0
D7: BOURRICHE 6 Douzaines | E7: 49.8 | G7: =E7*F7 -> 0
C9: CALIBRE 3 Moyennes | D9: BOURRICHE 4 Douzaines | E9: 27.59 | G9: =E9*F9 -> 0
D11: BOURRICHE 6 Douzaines | E11: 40.14 | G11: =E11*F11 -> 0
C13: CALIBRE 4 Petites | D13: BOURRICHE 4 Douzaines | E13: 21.63 | G13: =E13*F13 -> 0
D15: BOURRICHE 6 Douzaines | E15: 31.97 | G15: =E15*F15 -> 0
E17: TOTAL HUITRES | G17: =SUM(G5:G15) -> 0
